BEGIN:VCALENDAR
VERSION:2.0
PRODID:-//JKA Bass Rock Karate - ECPv6.15.16.1//NONSGML v1.0//EN
CALSCALE:GREGORIAN
METHOD:PUBLISH
X-ORIGINAL-URL:https://jkabassrock.com
X-WR-CALDESC:Events for JKA Bass Rock Karate
REFRESH-INTERVAL;VALUE=DURATION:PT1H
X-Robots-Tag:noindex
X-PUBLISHED-TTL:PT1H
BEGIN:VTIMEZONE
TZID:Europe/London
BEGIN:DAYLIGHT
TZOFFSETFROM:+0000
TZOFFSETTO:+0100
TZNAME:BST
DTSTART:20250330T010000
END:DAYLIGHT
BEGIN:STANDARD
TZOFFSETFROM:+0100
TZOFFSETTO:+0000
TZNAME:GMT
DTSTART:20251026T010000
END:STANDARD
BEGIN:DAYLIGHT
TZOFFSETFROM:+0000
TZOFFSETTO:+0100
TZNAME:BST
DTSTART:20260329T010000
END:DAYLIGHT
BEGIN:STANDARD
TZOFFSETFROM:+0100
TZOFFSETTO:+0000
TZNAME:GMT
DTSTART:20261025T010000
END:STANDARD
BEGIN:DAYLIGHT
TZOFFSETFROM:+0000
TZOFFSETTO:+0100
TZNAME:BST
DTSTART:20270328T010000
END:DAYLIGHT
BEGIN:STANDARD
TZOFFSETFROM:+0100
TZOFFSETTO:+0000
TZNAME:GMT
DTSTART:20271031T010000
END:STANDARD
END:VTIMEZONE
BEGIN:VEVENT
DTSTART;TZID=Europe/London:20260313T190000
DTEND;TZID=Europe/London:20260313T203000
DTSTAMP:20260425T112912
CREATED:20260208T170758Z
LAST-MODIFIED:20260302T135334Z
UID:22310-1773428400-1773433800@jkabassrock.com
SUMMARY:JKA Bass Rock Extra class  13 March
DESCRIPTION:Another chance to get some extra training supported by the Bass Rock Sensei. One Friday per month will focus on Kata and one Friday per month will be for Kumite. \nThis class will focus on kata Bassai Dai and 5th kyu and above are welcome to attend. \nBook a place online as space in the dojo is limited.
URL:https://jkabassrock.com/event/jka-bass-rock-extra-class/
LOCATION:Dirleton Dojo\, Dirleton Kirk hall\, Manse Rd\,\, Dirleton\, EH39 5EL\, United Kingdom
CATEGORIES:Special Class
END:VEVENT
BEGIN:VEVENT
DTSTART;TZID=Europe/London:20260116T190000
DTEND;TZID=Europe/London:20260116T203000
DTSTAMP:20260425T112912
CREATED:20260114T183152Z
LAST-MODIFIED:20260114T183152Z
UID:22273-1768590000-1768595400@jkabassrock.com
SUMMARY:Special Class: Sport psychology for Karate
DESCRIPTION:Join Sensei David for some psychological insights and training in how to control your nerves and imrpove focus in your karate.  Class is open to members aged 14 upwards.
URL:https://jkabassrock.com/event/special-class-sport-psychology-for-karate/
LOCATION:Dirleton Dojo\, Dirleton Kirk hall\, Manse Rd\,\, Dirleton\, EH39 5EL\, United Kingdom
CATEGORIES:Special Class
END:VEVENT
END:VCALENDAR