BEGIN:VCALENDAR
VERSION:2.0
PRODID:-//JKA Bass Rock Karate - ECPv6.15.16.1//NONSGML v1.0//EN
CALSCALE:GREGORIAN
METHOD:PUBLISH
X-WR-CALNAME:JKA Bass Rock Karate
X-ORIGINAL-URL:https://jkabassrock.com
X-WR-CALDESC:Events for JKA Bass Rock Karate
REFRESH-INTERVAL;VALUE=DURATION:PT1H
X-Robots-Tag:noindex
X-PUBLISHED-TTL:PT1H
BEGIN:VTIMEZONE
TZID:Europe/London
BEGIN:DAYLIGHT
TZOFFSETFROM:+0000
TZOFFSETTO:+0100
TZNAME:BST
DTSTART:20250330T010000
END:DAYLIGHT
BEGIN:STANDARD
TZOFFSETFROM:+0100
TZOFFSETTO:+0000
TZNAME:GMT
DTSTART:20251026T010000
END:STANDARD
BEGIN:DAYLIGHT
TZOFFSETFROM:+0000
TZOFFSETTO:+0100
TZNAME:BST
DTSTART:20260329T010000
END:DAYLIGHT
BEGIN:STANDARD
TZOFFSETFROM:+0100
TZOFFSETTO:+0000
TZNAME:GMT
DTSTART:20261025T010000
END:STANDARD
BEGIN:DAYLIGHT
TZOFFSETFROM:+0000
TZOFFSETTO:+0100
TZNAME:BST
DTSTART:20270328T010000
END:DAYLIGHT
BEGIN:STANDARD
TZOFFSETFROM:+0100
TZOFFSETTO:+0000
TZNAME:GMT
DTSTART:20271031T010000
END:STANDARD
END:VTIMEZONE
BEGIN:VEVENT
DTSTART;TZID=Europe/London:20260322T110000
DTEND;TZID=Europe/London:20260322T133000
DTSTAMP:20260423T163800
CREATED:20260208T164513Z
LAST-MODIFIED:20260208T170307Z
UID:22299-1774177200-1774186200@jkabassrock.com
SUMMARY:JKA Scotland Squad Training – March 2026
DESCRIPTION:Our March Squad training will take place on Sunday\, 22 March at the Dunfermline/Carnegie Dojo.  Although we are training on the Sunday for a change\, the timings will remain the same\, kata 11.00 -12.15\, kumite 12.15-13.30. \nBooking will be pay on the day for this session.  Please make sure you have the correct money with you\, £10. \n  \n\nBy booking a place you declare that you are physically and mentally fit to participate in this course. You also indemnify the organisers and officials of the said course in respect of any negligence\, loss\, injury\, or damage caused. You fully understand and agree that Karate is a high risk sport and injury is a foreseeable consequence whilst participating in this event.\nPhotographs may be taken at this event for JKA Scotland Social Media.  If you do not give permission for your photograph to be taken\, please inform registration prior to the event.
URL:https://jkabassrock.com/event/jka-scotland-squad-training-march-2026/
LOCATION:JKA Dunfermline/Carnegie Dojo\, 52 Pilmuir St\, Dunfermline\, KY12 0QG
CATEGORIES:Squad
END:VEVENT
BEGIN:VEVENT
DTSTART;TZID=Europe/London:20260313T190000
DTEND;TZID=Europe/London:20260313T203000
DTSTAMP:20260423T163800
CREATED:20260208T170758Z
LAST-MODIFIED:20260302T135334Z
UID:22310-1773428400-1773433800@jkabassrock.com
SUMMARY:JKA Bass Rock Extra class  13 March
DESCRIPTION:Another chance to get some extra training supported by the Bass Rock Sensei. One Friday per month will focus on Kata and one Friday per month will be for Kumite. \nThis class will focus on kata Bassai Dai and 5th kyu and above are welcome to attend. \nBook a place online as space in the dojo is limited.
URL:https://jkabassrock.com/event/jka-bass-rock-extra-class/
LOCATION:Dirleton Dojo\, Dirleton Kirk hall\, Manse Rd\,\, Dirleton\, EH39 5EL\, United Kingdom
CATEGORIES:Special Class
END:VEVENT
BEGIN:VEVENT
DTSTART;VALUE=DATE:20260308
DTEND;VALUE=DATE:20260309
DTSTAMP:20260423T163800
CREATED:20260208T162044Z
LAST-MODIFIED:20260302T134438Z
UID:22292-1772928000-1773014399@jkabassrock.com
SUMMARY:JKA Scotland East Region Grading
DESCRIPTION:All JKA Scotland students are welcome to attend the East Region Grading to be held on Sunday 8th March at JKA Dunfermline/Carnegie Dojo. Sensei John Deans will be leading the course.  Please go the the JKA Scotland Website for full details of how to book your place \nEvent Calendar – JKA Scotland \nIf you wish to grade you must have permission of your club instructor but you are more than welcome to attend the training only.
URL:https://jkabassrock.com/event/jka-scotland-east-region-grading-mar2026/
LOCATION:JKA Dunfermline/Carnegie Dojo\, 52 Pilmuir St\, Dunfermline\, KY12 0QG
CATEGORIES:Grading
END:VEVENT
BEGIN:VEVENT
DTSTART;TZID=Europe/London:20260228T090000
DTEND;TZID=Europe/London:20260228T170000
DTSTAMP:20260423T163800
CREATED:20260208T163827Z
LAST-MODIFIED:20260208T170415Z
UID:22297-1772269200-1772298000@jkabassrock.com
SUMMARY:JKA Scotland National Championships 2026
DESCRIPTION:Our National Championships will be held at Dunfermline High School on Saturday 28th February 2026. All JKA Scotland Licensed Members are encouraged to attend. This is a fantastic event for all ages and abilities and a great way to catch up with your fellow karate-ka from around Scotland. \nBooking details are with your club instructor alternatively contact the JKA Scotland Secretary \nYou can also download the application form and follow the instructions on the form \nJKA Scotland Championships 2026 Application Form \nChampionships Events List 2026 \nAll Applications have to be with Sensei John Deans by 25th February 2026 \nBy booking a place you declare that you are physically and mentally fit to participate in this course. You also indemnify the organisers and officials of the said course in respect of any negligence\, loss\, injury\, or damage caused. You fully understand and agree that Karate is a high risk sport and injury is a foreseeable consequence whilst participating in this event. \nPhotographs may be taken at this event for JKA Scotland Social Media. If you do not give permission for your photograph to be taken\, please inform registration prior to the event.
URL:https://jkabassrock.com/event/jka-scotland-national-championships-2026/
LOCATION:Dunfermline High School\, Jennie Rennie's road\,\, Dunfermline\, Fife\, KY11 3BQ\, United Kingdom
CATEGORIES:Championships
END:VEVENT
BEGIN:VEVENT
DTSTART;TZID=Europe/London:20260227T190000
DTEND;TZID=Europe/London:20260227T203000
DTSTAMP:20260423T163800
CREATED:20260208T170206Z
LAST-MODIFIED:20260208T170206Z
UID:22308-1772218800-1772224200@jkabassrock.com
SUMMARY:JKA Bass Rock extra Kumite class
DESCRIPTION:Join our special extra friday night class to get compettion ready and to polish up Kumite skills. \n  \nBook online as space in the Dojo is limited
URL:https://jkabassrock.com/event/jka-bass-rock-extra-kumite-class/
LOCATION:Dirleton Dojo\, Dirleton Kirk hall\, Manse Rd\,\, Dirleton\, EH39 5EL\, United Kingdom
CATEGORIES:Kumite Training
END:VEVENT
BEGIN:VEVENT
DTSTART;TZID=Europe/London:20260221T110000
DTEND;TZID=Europe/London:20260221T133000
DTSTAMP:20260423T163800
CREATED:20260208T162651Z
LAST-MODIFIED:20260208T170357Z
UID:22294-1771671600-1771680600@jkabassrock.com
SUMMARY:JKA Scotland Squad Training – February 2026
DESCRIPTION:February Squad Training will take place at The Training Station in Saltcoats on Saturday 21st.  With the JKA Scotland Championships the following Saturday and the European Championships coming up in May\, it is the perfect opportunity to perfect your skills. \nOn line booking is now open and will close at midday on Friday 20th February
URL:https://jkabassrock.com/event/jka-scotland-squad-training-february-2026/
LOCATION:The Training Station\, The Training Station\, Glencairn Street\, Saltcoats\, KA21 5JT\, United Kingdom
CATEGORIES:Squad
END:VEVENT
BEGIN:VEVENT
DTSTART;TZID=Europe/London:20260123T190000
DTEND;TZID=Europe/London:20260123T203000
DTSTAMP:20260423T163800
CREATED:20260114T185907Z
LAST-MODIFIED:20260114T185907Z
UID:22281-1769194800-1769200200@jkabassrock.com
SUMMARY:Kumite Class
DESCRIPTION:Extra class to practice and improve Kumite skills.  Sensei Dave will be leading the class\, which is open to all members and grades.  Book online as we are a bit limited for space.
URL:https://jkabassrock.com/event/kumite-class/
LOCATION:Dirleton Dojo\, Dirleton Kirk hall\, Manse Rd\,\, Dirleton\, EH39 5EL\, United Kingdom
CATEGORIES:Kumite Training
END:VEVENT
BEGIN:VEVENT
DTSTART;TZID=Europe/London:20260117T110000
DTEND;TZID=Europe/London:20260117T133000
DTSTAMP:20260423T163800
CREATED:20260114T184333Z
LAST-MODIFIED:20260114T184333Z
UID:22276-1768647600-1768656600@jkabassrock.com
SUMMARY:Squad training
DESCRIPTION:The first JKA Scotland Squad training of 2026 will take place at the Dunfermline/Carnegie Dojo on Saturday 17th January. Squad training is open to all our licenced brown and black belt students. This is the best opportunity to refine your skills and push yourself to the next level in your karate. \nBooking is open and will close at midday on Friday 16th January. Booking is available on the JKA Scotland website.
URL:https://jkabassrock.com/event/squad-training/
LOCATION:JKA Dunfermline/Carnegie Dojo\, 52 Pilmuir St\, Dunfermline\, KY12 0QG
CATEGORIES:Squad
END:VEVENT
BEGIN:VEVENT
DTSTART;TZID=Europe/London:20260116T190000
DTEND;TZID=Europe/London:20260116T203000
DTSTAMP:20260423T163800
CREATED:20260114T183152Z
LAST-MODIFIED:20260114T183152Z
UID:22273-1768590000-1768595400@jkabassrock.com
SUMMARY:Special Class: Sport psychology for Karate
DESCRIPTION:Join Sensei David for some psychological insights and training in how to control your nerves and imrpove focus in your karate.  Class is open to members aged 14 upwards.
URL:https://jkabassrock.com/event/special-class-sport-psychology-for-karate/
LOCATION:Dirleton Dojo\, Dirleton Kirk hall\, Manse Rd\,\, Dirleton\, EH39 5EL\, United Kingdom
CATEGORIES:Special Class
END:VEVENT
END:VCALENDAR